BEGIN:VCALENDAR
VERSION:2.0
PRODID:-//Stoke Prior Club - ECPv6.2.9//NONSGML v1.0//EN
CALSCALE:GREGORIAN
METHOD:PUBLISH
X-WR-CALNAME:Stoke Prior Club
X-ORIGINAL-URL:https://stokeprior.club
X-WR-CALDESC:Events for Stoke Prior Club
REFRESH-INTERVAL;VALUE=DURATION:PT1H
X-Robots-Tag:noindex
X-PUBLISHED-TTL:PT1H
BEGIN:VTIMEZONE
TZID:UTC
BEGIN:STANDARD
TZOFFSETFROM:+0000
TZOFFSETTO:+0000
TZNAME:UTC
DTSTART:20250101T000000
END:STANDARD
END:VTIMEZONE
BEGIN:VEVENT
DTSTART;VALUE=DATE:20251224
DTEND;VALUE=DATE:20260103
DTSTAMP:20260423T060423
CREATED:20251220T125615Z
LAST-MODIFIED:20251220T125615Z
UID:10000490-1766534400-1767398399@stokeprior.club
SUMMARY:FESTIVE OPENING HOURS 2025
DESCRIPTION:
URL:https://stokeprior.club/event/festive-opening-hours-2025/
ATTACH;FMTTYPE=image/jpeg:https://stokeprior.club/wp-content/uploads/2025/12/Festive-Hours-Dec-2025-FB.jpg
END:VEVENT
BEGIN:VEVENT
DTSTART;TZID=UTC:20251231T193000
DTEND;TZID=UTC:20260101T010000
DTSTAMP:20260423T060423
CREATED:20251220T125349Z
LAST-MODIFIED:20251231T133145Z
UID:10000489-1767209400-1767229200@stokeprior.club
SUMMARY:NEW YEAR'S EVE PARTY
DESCRIPTION:Cheers to 2025! \n\n\n\nNEW YEAR’S EVE PARTY – TICKETS HAVE NOW SOLD OUT!\n\n\n\nRing in the New Year with us at Stoke Prior Sports & Country Club! Join us on New Year’s Eve\, 7:30 PM – 1:30 AM for an unforgettable night of music\, food\, and celebration.\n\n\n\n Dance the night away with our live DJ\n Enjoy a delicious buffet\n Toast to 2025 with friends old and new\n\n\n\n Tickets have now sold out – please do not turn up if you do not have a ticket \n\n\n\n\n\n\n#NewYearsEve #CheersTo2025 #PartyTime #StokePrior
URL:https://stokeprior.club/event/new-years-eve-party-2/
CATEGORIES:Party
ATTACH;FMTTYPE=image/jpeg:https://stokeprior.club/wp-content/uploads/2025/12/NYE-2025-FB-post-950px-x-788px.jpg
END:VEVENT
BEGIN:VEVENT
DTSTART;TZID=UTC:20260108T200000
DTEND;TZID=UTC:20260108T220000
DTSTAMP:20260423T060423
CREATED:20260107T132847Z
LAST-MODIFIED:20260215T155128Z
UID:10000491-1767902400-1767909600@stokeprior.club
SUMMARY:BINGO!
DESCRIPTION:BINGO\n\nJoin us for a fun night of bingo where you will have the opportunity to win some big cash prizes\, with a raffle at half time – eyes down 8pm\n\nChildren are welcome to attend but please make sure they are sat with adults/parents and are well behaved.\n\nOnly over 18’s are allowed to play bingo
URL:https://stokeprior.club/event/bingo-13/2026-01-08/
CATEGORIES:Bingo
ATTACH;FMTTYPE=image/jpeg:https://stokeprior.club/wp-content/uploads/2024/10/Bingo-This-Thursday-2022.jpg
END:VEVENT
BEGIN:VEVENT
DTSTART;VALUE=DATE:20260111
DTEND;VALUE=DATE:20260401
DTSTAMP:20260423T060423
CREATED:20260111T230509Z
LAST-MODIFIED:20260111T230509Z
UID:10000515-1768089600-1775001599@stokeprior.club
SUMMARY:FREE FUNCTION ROOM HIRE
DESCRIPTION:✨ SPECIAL OFFER – FREE FUNCTION ROOM HIRE ✨ \n📅 Book & hold your event by 31st March 2026 \nPlanning a celebration or special event?Take advantage of our FREE function room hire for a limited time! \n🎉 Perfect for:🎂 Birthday parties🥂 Anniversaries & celebrations👶 Baby showers💍 Engagements & Weddings🏢 Meetings & social events \n🏠 What’s included:✔️ Spacious\, well-equipped function room✔️ Bar facilities available✔️ Friendly\, welcoming venue✔️ DJ & Caterer recommendations available upon request \n💳 A returnable deposit is required to secure all bookings \n📩 Enquire now to reserve your date  – 01527 577876 or info@stokeprior.club⏳ Offer valid when you book and hold your event by 31st March 2026. Terms & conditions apply.
URL:https://stokeprior.club/event/free-function-room-hire/
CATEGORIES:Party
ATTACH;FMTTYPE=image/jpeg:https://stokeprior.club/wp-content/uploads/2026/01/Free-Function-Room-Hire-January-2026-FB.jpg
END:VEVENT
BEGIN:VEVENT
DTSTART;TZID=UTC:20260115T200000
DTEND;TZID=UTC:20260115T220000
DTSTAMP:20260423T060423
CREATED:20260107T132847Z
LAST-MODIFIED:20260215T155128Z
UID:10000492-1768507200-1768514400@stokeprior.club
SUMMARY:BINGO!
DESCRIPTION:BINGO\n\nJoin us for a fun night of bingo where you will have the opportunity to win some big cash prizes\, with a raffle at half time – eyes down 8pm\n\nChildren are welcome to attend but please make sure they are sat with adults/parents and are well behaved.\n\nOnly over 18’s are allowed to play bingo
URL:https://stokeprior.club/event/bingo-13/2026-01-15/
CATEGORIES:Bingo
ATTACH;FMTTYPE=image/jpeg:https://stokeprior.club/wp-content/uploads/2024/10/Bingo-This-Thursday-2022.jpg
END:VEVENT
BEGIN:VEVENT
DTSTART;TZID=UTC:20260122T200000
DTEND;TZID=UTC:20260122T220000
DTSTAMP:20260423T060423
CREATED:20260107T132847Z
LAST-MODIFIED:20260215T155128Z
UID:10000493-1769112000-1769119200@stokeprior.club
SUMMARY:BINGO!
DESCRIPTION:BINGO\n\nJoin us for a fun night of bingo where you will have the opportunity to win some big cash prizes\, with a raffle at half time – eyes down 8pm\n\nChildren are welcome to attend but please make sure they are sat with adults/parents and are well behaved.\n\nOnly over 18’s are allowed to play bingo
URL:https://stokeprior.club/event/bingo-13/2026-01-22/
CATEGORIES:Bingo
ATTACH;FMTTYPE=image/jpeg:https://stokeprior.club/wp-content/uploads/2024/10/Bingo-This-Thursday-2022.jpg
END:VEVENT
BEGIN:VEVENT
DTSTART;TZID=UTC:20260129T200000
DTEND;TZID=UTC:20260129T220000
DTSTAMP:20260423T060423
CREATED:20260107T132847Z
LAST-MODIFIED:20260215T155128Z
UID:10000494-1769716800-1769724000@stokeprior.club
SUMMARY:BINGO!
DESCRIPTION:BINGO\n\nJoin us for a fun night of bingo where you will have the opportunity to win some big cash prizes\, with a raffle at half time – eyes down 8pm\n\nChildren are welcome to attend but please make sure they are sat with adults/parents and are well behaved.\n\nOnly over 18’s are allowed to play bingo
URL:https://stokeprior.club/event/bingo-13/2026-01-29/
CATEGORIES:Bingo
ATTACH;FMTTYPE=image/jpeg:https://stokeprior.club/wp-content/uploads/2024/10/Bingo-This-Thursday-2022.jpg
END:VEVENT
END:VCALENDAR