BEGIN:VCALENDAR
VERSION:2.0
PRODID:-//Stoke Prior Club - ECPv6.2.9//NONSGML v1.0//EN
CALSCALE:GREGORIAN
METHOD:PUBLISH
X-WR-CALNAME:Stoke Prior Club
X-ORIGINAL-URL:https://stokeprior.club
X-WR-CALDESC:Events for Stoke Prior Club
REFRESH-INTERVAL;VALUE=DURATION:PT1H
X-Robots-Tag:noindex
X-PUBLISHED-TTL:PT1H
BEGIN:VTIMEZONE
TZID:UTC
BEGIN:STANDARD
TZOFFSETFROM:+0000
TZOFFSETTO:+0000
TZNAME:UTC
DTSTART:20240101T000000
END:STANDARD
END:VTIMEZONE
BEGIN:VEVENT
DTSTART;TZID=UTC:20240810T123000
DTEND;TZID=UTC:20240810T235900
DTSTAMP:20260423T164342
CREATED:20240330T192248Z
LAST-MODIFIED:20240524T104633Z
UID:10000156-1723293000-1723334340@stokeprior.club
SUMMARY:PRIORFEST 2024
DESCRIPTION:PRIORFEST 2024!\n\nPriorfest is back for it’s 3rd year providing great live music and entertainment for all the family!\n\nBuy your tickets in advance to avoid disappointment – available from:\n\nAdults (16 years+) £11.50\nChildren (3 years-15 years) £7.50\nFamily ticket (2 adults + 2 children) £33.50\n\n\n FREE PARKING\n\nBuy your tickets in advance to avoid disappointment!\n\nBuy tickets – PRIORFEST – Stoke Prior Sports & Country Club\, Sat 10 Aug 2024 12:30 PM – 11:45 PM (tickettailor.com)
URL:https://stokeprior.club/event/name-of-event/
CATEGORIES:Festival,Live Music
ATTACH;FMTTYPE=image/jpeg:https://stokeprior.club/wp-content/uploads/2024/03/Priorfest-May-2024-full-line-up-post.jpg
END:VEVENT
END:VCALENDAR