BEGIN:VCALENDAR
VERSION:2.0
PRODID:-//Stoke Prior Club - ECPv6.2.9//NONSGML v1.0//EN
CALSCALE:GREGORIAN
METHOD:PUBLISH
X-WR-CALNAME:Stoke Prior Club
X-ORIGINAL-URL:https://stokeprior.club
X-WR-CALDESC:Events for Stoke Prior Club
REFRESH-INTERVAL;VALUE=DURATION:PT1H
X-Robots-Tag:noindex
X-PUBLISHED-TTL:PT1H
BEGIN:VTIMEZONE
TZID:UTC
BEGIN:STANDARD
TZOFFSETFROM:+0000
TZOFFSETTO:+0000
TZNAME:UTC
DTSTART:20240101T000000
END:STANDARD
END:VTIMEZONE
BEGIN:VEVENT
DTSTART;TZID=UTC:20240420T190000
DTEND;TZID=UTC:20240420T233000
DTSTAMP:20260423T231236
CREATED:20240401T145357Z
LAST-MODIFIED:20240401T145438Z
UID:10000158-1713639600-1713655800@stokeprior.club
SUMMARY:REDDITCH WESTERNERS - Country & Western Club night
DESCRIPTION:Redditch Westerners Country & Western club night\n\nSaturday 20th April 2024\n\nFeaturing Chris James\, supported by Lisa’s Country Disco\n\nOption theme: Mountain Folk\n\n£5 pp entry on the door
URL:https://stokeprior.club/event/redditch-westerners-country-western-club-night/
CATEGORIES:Live Music
ATTACH;FMTTYPE=image/jpeg:https://stokeprior.club/wp-content/uploads/2024/04/westerners-april-2024.jpg
END:VEVENT
END:VCALENDAR