BEGIN:VCALENDAR
VERSION:2.0
PRODID:-//Stoke Prior Club - ECPv6.2.9//NONSGML v1.0//EN
CALSCALE:GREGORIAN
METHOD:PUBLISH
X-WR-CALNAME:Stoke Prior Club
X-ORIGINAL-URL:https://stokeprior.club
X-WR-CALDESC:Events for Stoke Prior Club
REFRESH-INTERVAL;VALUE=DURATION:PT1H
X-Robots-Tag:noindex
X-PUBLISHED-TTL:PT1H
BEGIN:VTIMEZONE
TZID:UTC
BEGIN:STANDARD
TZOFFSETFROM:+0000
TZOFFSETTO:+0000
TZNAME:UTC
DTSTART:20240101T000000
END:STANDARD
END:VTIMEZONE
BEGIN:VEVENT
DTSTART;TZID=UTC:20240719T203000
DTEND;TZID=UTC:20240719T235900
DTSTAMP:20260423T164306
CREATED:20240313T144744Z
LAST-MODIFIED:20240313T145028Z
UID:10000153-1721421000-1721433540@stokeprior.club
SUMMARY:Fred Zeppelin
DESCRIPTION:FRED ZEPPELIN \n\nOne of the best tributes to the mighty Led Zeppelin\n\nTICKETS\nON SALE NOW JUST £11 in advance £14 on the door\nFREE PARKING\n\nClick Here for Tickets
URL:https://stokeprior.club/event/fred-zeppelin/
CATEGORIES:Live Music
ATTACH;FMTTYPE=image/jpeg:https://stokeprior.club/wp-content/uploads/2024/03/fred-zeppelin-july-2024.jpg
END:VEVENT
END:VCALENDAR