BEGIN:VCALENDAR
VERSION:2.0
PRODID:-//Stoke Prior Club - ECPv6.2.9//NONSGML v1.0//EN
CALSCALE:GREGORIAN
METHOD:PUBLISH
X-WR-CALNAME:Stoke Prior Club
X-ORIGINAL-URL:https://stokeprior.club
X-WR-CALDESC:Events for Stoke Prior Club
REFRESH-INTERVAL;VALUE=DURATION:PT1H
X-Robots-Tag:noindex
X-PUBLISHED-TTL:PT1H
BEGIN:VTIMEZONE
TZID:UTC
BEGIN:STANDARD
TZOFFSETFROM:+0000
TZOFFSETTO:+0000
TZNAME:UTC
DTSTART:20260101T000000
END:STANDARD
END:VTIMEZONE
BEGIN:VEVENT
DTSTART;VALUE=DATE:20260111
DTEND;VALUE=DATE:20260401
DTSTAMP:20260423T055824
CREATED:20260111T230509Z
LAST-MODIFIED:20260111T230509Z
UID:10000515-1768089600-1775001599@stokeprior.club
SUMMARY:FREE FUNCTION ROOM HIRE
DESCRIPTION:✨ SPECIAL OFFER – FREE FUNCTION ROOM HIRE ✨ \n📅 Book & hold your event by 31st March 2026 \nPlanning a celebration or special event?Take advantage of our FREE function room hire for a limited time! \n🎉 Perfect for:🎂 Birthday parties🥂 Anniversaries & celebrations👶 Baby showers💍 Engagements & Weddings🏢 Meetings & social events \n🏠 What’s included:✔️ Spacious\, well-equipped function room✔️ Bar facilities available✔️ Friendly\, welcoming venue✔️ DJ & Caterer recommendations available upon request \n💳 A returnable deposit is required to secure all bookings \n📩 Enquire now to reserve your date  – 01527 577876 or info@stokeprior.club⏳ Offer valid when you book and hold your event by 31st March 2026. Terms & conditions apply.
URL:https://stokeprior.club/event/free-function-room-hire/
CATEGORIES:Party
ATTACH;FMTTYPE=image/jpeg:https://stokeprior.club/wp-content/uploads/2026/01/Free-Function-Room-Hire-January-2026-FB.jpg
END:VEVENT
BEGIN:VEVENT
DTSTART;TZID=UTC:20260221T140000
DTEND;TZID=UTC:20260221T183000
DTSTAMP:20260423T055824
CREATED:20260210T204759Z
LAST-MODIFIED:20260210T204759Z
UID:10000526-1771682400-1771698600@stokeprior.club
SUMMARY:Six Nations Rugby
DESCRIPTION:Guinness Six Nations Rugby! \n\n\n\nWe’re showing all the action live on our BIG screens!\n\n\nEngland vs Ireland 2:10pm\n\nWales vs Scotland 4pm\n\n\n\n\nCold drinks. Big atmosphere. Don’t miss it \n\n\n#SixNations2026 #sixnations #GuinnessSixNations #RugbyUnion #Rugby2026 #LiveRugby #SixNationsLive #sixnationsaction #RugbyCommunity #GuinnessM6N
URL:https://stokeprior.club/event/six-nations-rugby-4/
CATEGORIES:Live Sport
ATTACH;FMTTYPE=image/jpeg:https://stokeprior.club/wp-content/uploads/2026/02/6-Nations-21-Feb-games-FB.jpg
END:VEVENT
BEGIN:VEVENT
DTSTART;TZID=UTC:20260221T190000
DTEND;TZID=UTC:20260221T235900
DTSTAMP:20260423T055824
CREATED:20260206T154329Z
LAST-MODIFIED:20260206T154329Z
UID:10000523-1771700400-1771718340@stokeprior.club
SUMMARY:COWBOY JACK'S LIVE COUNTRY MUSIC
DESCRIPTION:Spirit of the Old West & Cowboy Jack’s present live Country music with John Permenter. \n  \nDoors open 7pm \nEntry £7 per person (under 16’s free of chage) \nhttps://www.spiritoftheoldwest.co.uk/ \n 
URL:https://stokeprior.club/event/cowboy-jacks-live-country-music/
CATEGORIES:Live Music
ATTACH;FMTTYPE=image/jpeg:https://stokeprior.club/wp-content/uploads/2026/02/cowboy-jacks-Feb-2026.jpg
END:VEVENT
END:VCALENDAR