BEGIN:VCALENDAR
VERSION:2.0
PRODID:-//Stoke Prior Club - ECPv6.2.9//NONSGML v1.0//EN
CALSCALE:GREGORIAN
METHOD:PUBLISH
X-WR-CALNAME:Stoke Prior Club
X-ORIGINAL-URL:https://stokeprior.club
X-WR-CALDESC:Events for Stoke Prior Club
REFRESH-INTERVAL;VALUE=DURATION:PT1H
X-Robots-Tag:noindex
X-PUBLISHED-TTL:PT1H
BEGIN:VTIMEZONE
TZID:UTC
BEGIN:STANDARD
TZOFFSETFROM:+0000
TZOFFSETTO:+0000
TZNAME:UTC
DTSTART:20250101T000000
END:STANDARD
END:VTIMEZONE
BEGIN:VEVENT
DTSTART;VALUE=DATE:20250904
DTEND;VALUE=DATE:20250908
DTSTAMP:20260423T055830
CREATED:20250127T190335Z
LAST-MODIFIED:20250127T190335Z
UID:10000368-1756944000-1757289599@stokeprior.club
SUMMARY:ON BOARD THE CRAFT
DESCRIPTION:ON BOARD THE CRAFT 2025 \n4th-7th September 2025 \n  \n3 days of Space prog music \nONBOARD THE CRAFT 2022 \n  \n 
URL:https://stokeprior.club/event/on-board-the-craft/
CATEGORIES:Festival,Live Music
ATTACH;FMTTYPE=image/avif:https://stokeprior.club/wp-content/uploads/2025/01/OBTC-25.avif
END:VEVENT
BEGIN:VEVENT
DTSTART;TZID=UTC:20250904T200000
DTEND;TZID=UTC:20250904T220000
DTSTAMP:20260423T055830
CREATED:20250519T150950Z
LAST-MODIFIED:20250922T174011Z
UID:10000463-1757016000-1757023200@stokeprior.club
SUMMARY:BINGO
DESCRIPTION:BINGO\n\nJoin us for a fun night of bingo where you will have the opportunity to win some big cash prizes\, with a raffle at half time – eyes down 8pm\n\nOnly over 18’s are allowed to play bingo
URL:https://stokeprior.club/event/bingo-9/2025-09-04/
CATEGORIES:Bingo
ATTACH;FMTTYPE=image/jpeg:https://stokeprior.club/wp-content/uploads/2024/10/Bingo-This-Thursday-2022.jpg
END:VEVENT
END:VCALENDAR