BEGIN:VCALENDAR
VERSION:2.0
PRODID:-//Stoke Prior Club - ECPv6.2.9//NONSGML v1.0//EN
CALSCALE:GREGORIAN
METHOD:PUBLISH
X-WR-CALNAME:Stoke Prior Club
X-ORIGINAL-URL:https://stokeprior.club
X-WR-CALDESC:Events for Stoke Prior Club
REFRESH-INTERVAL;VALUE=DURATION:PT1H
X-Robots-Tag:noindex
X-PUBLISHED-TTL:PT1H
BEGIN:VTIMEZONE
TZID:UTC
BEGIN:STANDARD
TZOFFSETFROM:+0000
TZOFFSETTO:+0000
TZNAME:UTC
DTSTART:20240101T000000
END:STANDARD
END:VTIMEZONE
BEGIN:VEVENT
DTSTART;TZID=UTC:20240224T140000
DTEND;TZID=UTC:20240224T160000
DTSTAMP:20260423T055823
CREATED:20240206T184439Z
LAST-MODIFIED:20240206T184439Z
UID:10000143-1708783200-1708790400@stokeprior.club
SUMMARY:Six Nations Rugby: Ireland vs Wales
DESCRIPTION:RBS Six Nations Ireland vs Wales\nWatch the game live on our big screen!
URL:https://stokeprior.club/event/six-nations-rugby-ireland-vs-wales/
CATEGORIES:Live Sport
ATTACH;FMTTYPE=image/jpeg:https://stokeprior.club/wp-content/uploads/2024/02/live-rugby.jpg
END:VEVENT
BEGIN:VEVENT
DTSTART;TZID=UTC:20240224T163000
DTEND;TZID=UTC:20240224T183000
DTSTAMP:20260423T055823
CREATED:20240206T184515Z
LAST-MODIFIED:20240206T184515Z
UID:10000144-1708792200-1708799400@stokeprior.club
SUMMARY:Six Nations Rugby: Scotland vs England
DESCRIPTION:RBS Six Nations Scotland vs England\nWatch the game live on our big screen!
URL:https://stokeprior.club/event/six-nations-rugby-scotland-vs-england/
CATEGORIES:Live Sport
ATTACH;FMTTYPE=image/jpeg:https://stokeprior.club/wp-content/uploads/2024/02/live-rugby.jpg
END:VEVENT
END:VCALENDAR